BEGIN:VCALENDAR
VERSION:2.0
PRODID:-//Open Arms Free Clinic - ECPv6.15.20//NONSGML v1.0//EN
CALSCALE:GREGORIAN
METHOD:PUBLISH
X-WR-CALNAME:Open Arms Free Clinic
X-ORIGINAL-URL:https://openarmsfreeclinic.org/es
X-WR-CALDESC:Eventos para Open Arms Free Clinic
REFRESH-INTERVAL;VALUE=DURATION:PT1H
X-Robots-Tag:noindex
X-PUBLISHED-TTL:PT1H
BEGIN:VTIMEZONE
TZID:America/Chicago
BEGIN:DAYLIGHT
TZOFFSETFROM:-0600
TZOFFSETTO:-0500
TZNAME:CDT
DTSTART:20220313T080000
END:DAYLIGHT
BEGIN:STANDARD
TZOFFSETFROM:-0500
TZOFFSETTO:-0600
TZNAME:CST
DTSTART:20221106T070000
END:STANDARD
BEGIN:DAYLIGHT
TZOFFSETFROM:-0600
TZOFFSETTO:-0500
TZNAME:CDT
DTSTART:20230312T080000
END:DAYLIGHT
BEGIN:STANDARD
TZOFFSETFROM:-0500
TZOFFSETTO:-0600
TZNAME:CST
DTSTART:20231105T070000
END:STANDARD
BEGIN:DAYLIGHT
TZOFFSETFROM:-0600
TZOFFSETTO:-0500
TZNAME:CDT
DTSTART:20240310T080000
END:DAYLIGHT
BEGIN:STANDARD
TZOFFSETFROM:-0500
TZOFFSETTO:-0600
TZNAME:CST
DTSTART:20241103T070000
END:STANDARD
BEGIN:DAYLIGHT
TZOFFSETFROM:-0600
TZOFFSETTO:-0500
TZNAME:CDT
DTSTART:20250309T080000
END:DAYLIGHT
BEGIN:STANDARD
TZOFFSETFROM:-0500
TZOFFSETTO:-0600
TZNAME:CST
DTSTART:20251102T070000
END:STANDARD
BEGIN:DAYLIGHT
TZOFFSETFROM:-0600
TZOFFSETTO:-0500
TZNAME:CDT
DTSTART:20260308T080000
END:DAYLIGHT
BEGIN:STANDARD
TZOFFSETFROM:-0500
TZOFFSETTO:-0600
TZNAME:CST
DTSTART:20261101T070000
END:STANDARD
END:VTIMEZONE
BEGIN:VEVENT
DTSTART;VALUE=DATE:20251205
DTEND;VALUE=DATE:20251206
DTSTAMP:20260423T063803
CREATED:20220805T154315Z
LAST-MODIFIED:20250923T154205Z
UID:174-1764892800-1764979199@openarmsfreeclinic.org
SUMMARY:Birthday Gala
DESCRIPTION:The Annual Birthday Celebration is held the 1st Friday of December to commemorate treating our first patient on December 6\, 2012.  Our annual celebration of sharing the Open Arms mission with our supporters\, volunteers\, and patients continues to grow.  This is a magical  event to be at and witness the community working together. \nSave the date for our 13th Anniversary:  \nDecember 5\, 2025 @ The Grand Geneva Resort & Spa \nTickets & Sponsorship opportunities – NOW AVAILABLE HERE \nDiscount Room Block at Grand Geneva available until 11/15 (until filled) HERE \nWant to see how to dress up for the occasion? See photos from our past Gala HERE
URL:https://openarmsfreeclinic.org/es/event/birthday-gala/
LOCATION:The Grand Geneva Resort & Spa
ATTACH;FMTTYPE=image/jpeg:https://openarmsfreeclinic.org/wp-content/uploads/Preferred-EVENTS-Gala-1200x857-1.jpg
END:VEVENT
BEGIN:VEVENT
DTSTART;TZID=America/Chicago:20231213T170000
DTEND;TZID=America/Chicago:20231213T190000
DTSTAMP:20260423T063803
CREATED:20230314T171414Z
LAST-MODIFIED:20230314T171414Z
UID:508-1702486800-1702494000@openarmsfreeclinic.org
SUMMARY:Open House
DESCRIPTION:We invite the public to visit the clinics to explore the community-supported mission. Tour\, talk\, meet the care givers\, and explore your curiosity of how health care can be free.  Four (4) dates this year: 3/12\, 6/14\, 9/10\, and 12/13.
URL:https://openarmsfreeclinic.org/es/event/open-house-4/
LOCATION:Open Arms Free Clinic\, 205 E. Commerce Ct.\, Elkhorn\, WI\, 53121\, United States
ATTACH;FMTTYPE=image/jpeg:https://openarmsfreeclinic.org/wp-content/uploads/Image-Open-House-2023.jpg
END:VEVENT
BEGIN:VEVENT
DTSTART;TZID=America/Chicago:20230910T110000
DTEND;TZID=America/Chicago:20230910T140000
DTSTAMP:20260423T063803
CREATED:20230314T171243Z
LAST-MODIFIED:20230314T171243Z
UID:507-1694343600-1694354400@openarmsfreeclinic.org
SUMMARY:Open House
DESCRIPTION:We invite the public to visit the clinics to explore the community-supported mission. Tour\, talk\, meet the care givers\, and explore your curiosity of how health care can be free.  Four (4) dates this year: 3/12\, 6/14\, 9/10\, and 12/13.
URL:https://openarmsfreeclinic.org/es/event/open-house-3/
LOCATION:Open Arms Free Clinic\, 205 E. Commerce Ct.\, Elkhorn\, WI\, 53121\, United States
ATTACH;FMTTYPE=image/jpeg:https://openarmsfreeclinic.org/wp-content/uploads/Image-Open-House-2023.jpg
END:VEVENT
BEGIN:VEVENT
DTSTART;TZID=America/Chicago:20230614T170000
DTEND;TZID=America/Chicago:20230614T190000
DTSTAMP:20260423T063803
CREATED:20230314T171012Z
LAST-MODIFIED:20230314T171012Z
UID:506-1686762000-1686769200@openarmsfreeclinic.org
SUMMARY:Open House
DESCRIPTION:We invite the public to visit the clinics to explore the community-supported mission. Tour\, talk\, meet the care givers\, and explore your curiosity of how health care can be free.  Four (4) dates this year: 3/12\, 6/14\, 9/10\, and 12/13.
URL:https://openarmsfreeclinic.org/es/event/open-house-2/
LOCATION:Open Arms Free Clinic\, 205 E. Commerce Ct.\, Elkhorn\, WI\, 53121\, United States
ATTACH;FMTTYPE=image/jpeg:https://openarmsfreeclinic.org/wp-content/uploads/Image-Open-House-2023.jpg
END:VEVENT
BEGIN:VEVENT
DTSTART;TZID=America/Chicago:20230415T190000
DTEND;TZID=America/Chicago:20230415T210000
DTSTAMP:20260423T063803
CREATED:20230312T022202Z
LAST-MODIFIED:20230312T022838Z
UID:483-1681585200-1681592400@openarmsfreeclinic.org
SUMMARY:Mr. Lake Geneva Pageant
DESCRIPTION:Support Mr. Dan Solverson as he competes for Mr. Lake Geneva in support of Open Arms Free Clinic. More votes for Dan = more support for OAFC!  The Mr. Lake Geneva pageant will feature ten well-known local business owners/active members within our community and will consist of several rounds which include a group dance\, talent portion\, beach wear\, and evening wear/interview question. In addition to the pageant rounds\, each contestant will compete to see who can raise the most amount of funds for their campaign. Starting February 15th\, our online giving portal will be open for anyone to give monetarily towards the contestant they wish to see win the pageant. This counts as 50% of their final score.
URL:https://openarmsfreeclinic.org/es/event/mr-lake-geneva-pageant/
LOCATION:Badger High School\, 220 E South St.\, Lake Geneva\, WI\, 53147\, United States
ATTACH;FMTTYPE=image/jpeg:https://openarmsfreeclinic.org/wp-content/uploads/Image-Dan-Solverson.jpg
END:VEVENT
BEGIN:VEVENT
DTSTART;TZID=America/Chicago:20230312T110000
DTEND;TZID=America/Chicago:20230312T140000
DTSTAMP:20260423T063803
CREATED:20230312T020424Z
LAST-MODIFIED:20230312T025744Z
UID:491-1678618800-1678629600@openarmsfreeclinic.org
SUMMARY:Open House
DESCRIPTION:We invite the public to visit the clinics to explore the community-supported mission. Tour\, talk\, meet the care givers\, and explore your curiosity of how health care can be free.  Four (4) dates this year: 3/12\, 6/14\, 9/10\, and 12/13.
URL:https://openarmsfreeclinic.org/es/event/open-house/
LOCATION:Open Arms Free Clinic\, 205 E. Commerce Ct.\, Elkhorn\, WI\, 53121\, United States
ATTACH;FMTTYPE=image/jpeg:https://openarmsfreeclinic.org/wp-content/uploads/Image-Open-House-2023.jpg
END:VEVENT
END:VCALENDAR